BEGIN:VCALENDAR
VERSION:2.0
PRODID:-//Fyrly - I ly af lyset - ECPv6.15.18//NONSGML v1.0//EN
CALSCALE:GREGORIAN
METHOD:PUBLISH
X-WR-CALNAME:Fyrly - I ly af lyset
X-ORIGINAL-URL:https://fyrly.dk
X-WR-CALDESC:Begivenheder for Fyrly - I ly af lyset
REFRESH-INTERVAL;VALUE=DURATION:PT1H
X-Robots-Tag:noindex
X-PUBLISHED-TTL:PT1H
BEGIN:VTIMEZONE
TZID:UTC
BEGIN:STANDARD
TZOFFSETFROM:+0000
TZOFFSETTO:+0000
TZNAME:UTC
DTSTART:20250101T000000
END:STANDARD
END:VTIMEZONE
BEGIN:VEVENT
DTSTART;VALUE=DATE:20260628
DTEND;VALUE=DATE:20260706
DTSTAMP:20260420T082535
CREATED:20260405T155818Z
LAST-MODIFIED:20260405T155818Z
UID:722-1782604800-1783295999@fyrly.dk
SUMMARY:Adam
DESCRIPTION:Adam \n\nFirst Name: Adam parker
URL:https://fyrly.dk/?tribe_events=adam-5
END:VEVENT
BEGIN:VEVENT
DTSTART;VALUE=DATE:20260706
DTEND;VALUE=DATE:20260728
DTSTAMP:20260420T082535
CREATED:20260405T155135Z
LAST-MODIFIED:20260405T155135Z
UID:720-1783296000-1785196799@fyrly.dk
SUMMARY:Henning
DESCRIPTION:Henning
URL:https://fyrly.dk/?tribe_events=henning-3
END:VEVENT
END:VCALENDAR